Workbook

Sheet NAUCZYCIELE
A1: FORMULARZ SPRAWOZDAWCZY DLA SZKÓŁ
A3: Informacja o strukturze zatrudnienia oraz faktycznych wydatkach nauczycieli do przeprowadzenia analizy, o której mowa w art. 30a ust.1 ustawy KN
A4: Nazwa i adres szkoły:
A6: REGON | C6: kod dysponenta:
A8: 1. Średnioroczna struktura zatrudnienia: | E8: za rok: | F8: 2022
A9: Jeśli którykolwiek z wierszy z nazwą miesiąca jest oznaczony czerwonym tłem to KONIECZNIE należy POPRAWIĆ tabele "Struktura zatrudnienia" dla danej grupy awansu. Wiersz oznaczony czerwonym tłem nie będzie brany do wyliczenia średnich. Średnie są liczone tylko z wierszy, w których wypełniono WSZYSTKIE komórki (miesiące oznaczone zielonym tłem). Należy zachować ciągłość danych począwszy od stycznia do ostatniego miesiąca objętego analizą.
A10: miesiąc | B10: Liczba etatów | G10: RAZEM
B11: Stopień awansu zawodowego
B12: nauczyciel stażysta | C12: nauczyciel kontraktowy | D12: nauczyciel początkujący | E12: nauczyciel mianowany | F12: nauczyciel dyplomowany
A13: styczeń | B13: =IF(ISBLANK(stażysta!B9),"",stażysta!B9) | C13: =IF(ISBLANK(kontraktowy!B9),"",kontraktowy!B9) | D13: =IF(ISBLANK(początkujący!B9),"",początkujący!B9) -> 0 | E13: =IF(ISBLANK(mianowany!B9),"",mianowany!B9) | F13: =IF(ISBLANK(dyplomowany!B9),"",dyplomowany!B9) | G13: =IF(H13=5,(SUM(B13:F13)),"") | H13: =COUNT(B13:F13) -> 1
A14: luty | B14: =IF(ISBLANK(stażysta!B10),"",stażysta!B10) | C14: =IF(ISBLANK(kontraktowy!B10),"",kontraktowy!B10) | D14: =IF(ISBLANK(początkujący!B10),"",początkujący!B10) -> 0 | E14: =IF(ISBLANK(mianowany!B10),"",mianowany!B10) | F14: =IF(ISBLANK(dyplomowany!B10),"",dyplomowany!B10) | G14: =IF(H14=5,(SUM(B14:F14)),"") | H14: =COUNT(B14:F14) -> 1
A15: marzec | B15: =IF(ISBLANK(stażysta!B11),"",stażysta!B11) | C15: =IF(ISBLANK(kontraktowy!B11),"",kontraktowy!B11) | D15: =IF(ISBLANK(początkujący!B11),"",początkujący!B11) -> 0 | E15: =IF(ISBLANK(mianowany!B11),"",mianowany!B11) | F15: =IF(ISBLANK(dyplomowany!B11),"",dyplomowany!B11) | G15: =IF(H15=5,(SUM(B15:F15)),"") | H15: =COUNT(B15:F15) -> 1
A16: kwiecień | B16: =IF(ISBLANK(stażysta!B12),"",stażysta!B12) | C16: =IF(ISBLANK(kontraktowy!B12),"",kontraktowy!B12) | D16: =IF(ISBLANK(początkujący!B12),"",początkujący!B12) -> 0 | E16: =IF(ISBLANK(mianowany!B12),"",mianowany!B12) | F16: =IF(ISBLANK(dyplomowany!B12),"",dyplomowany!B12) | G16: =IF(H16=5,(SUM(B16:F16)),"") | H16: =COUNT(B16:F16) -> 1
A17: maj | B17: =IF(ISBLANK(stażysta!B13),"",stażysta!B13) | C17: =IF(ISBLANK(kontraktowy!B13),"",kontraktowy!B13) | D17: =IF(ISBLANK(początkujący!B13),"",początkujący!B13) -> 0 | E17: =IF(ISBLANK(mianowany!B13),"",mianowany!B13) | F17: =IF(ISBLANK(dyplomowany!B13),"",dyplomowany!B13) | G17: =IF(H17=5,(SUM(B17:F17)),"") | H17: =COUNT(B17:F17) -> 1
A18: czerwiec | B18: =IF(ISBLANK(stażysta!B14),"",stażysta!B14) | C18: =IF(ISBLANK(kontraktowy!B14),"",kontraktowy!B14) | D18: =IF(ISBLANK(początkujący!B14),"",początkujący!B14) -> 0 | E18: =IF(ISBLANK(mianowany!B14),"",mianowany!B14) | F18: =IF(ISBLANK(dyplomowany!B14),"",dyplomowany!B14) | G18: =IF(H18=5,(SUM(B18:F18)),"") | H18: =COUNT(B18:F18) -> 1
A19: lipiec | B19: =IF(ISBLANK(stażysta!B15),"",stażysta!B15) | C19: =IF(ISBLANK(kontraktowy!B15),"",kontraktowy!B15) | D19: =IF(ISBLANK(początkujący!B15),"",początkujący!B15) -> 0 | E19: =IF(ISBLANK(mianowany!B15),"",mianowany!B15) | F19: =IF(ISBLANK(dyplomowany!B15),"",dyplomowany!B15) | G19: =IF(H19=5,(SUM(B19:F19)),"") | H19: =COUNT(B19:F19) -> 1
A20: sierpień | B20: =IF(ISBLANK(stażysta!B16),"",stażysta!B16) | C20: =IF(ISBLANK(kontraktowy!B16),"",kontraktowy!B16) | D20: =IF(ISBLANK(początkujący!B16),"",początkujący!B16) -> 0 | E20: =IF(ISBLANK(mianowany!B16),"",mianowany!B16) | F20: =IF(ISBLANK(dyplomowany!B16),"",dyplomowany!B16) | G20: =IF(H20=5,(SUM(B20:F20)),"") | H20: =COUNT(B20:F20) -> 1
A21: wrzesień | B21: =IF(ISBLANK(stażysta!B17),"",stażysta!B17) -> 0 | C21: =IF(ISBLANK(kontraktowy!B17),"",kontraktowy!B17) -> 0 | D21: =IF(ISBLANK(początkujący!B17),"",początkujący!B17) | E21: =IF(ISBLANK(mianowany!B17),"",mianowany!B17) | F21: =IF(ISBLANK(dyplomowany!B17),"",dyplomowany!B17) | G21: =IF(H21=5,(SUM(B21:F21)),"") | H21: =COUNT(B21:F21) -> 2
A22: październik | B22: =IF(ISBLANK(stażysta!B18),"",stażysta!B18) -> 0 | C22: =IF(ISBLANK(kontraktowy!B18),"",kontraktowy!B18) -> 0 | D22: =IF(ISBLANK(początkujący!B18),"",początkujący!B18) | E22: =IF(ISBLANK(mianowany!B18),"",mianowany!B18) | F22: =IF(ISBLANK(dyplomowany!B18),"",dyplomowany!B18) | G22: =IF(H22=5,(SUM(B22:F22)),"") | H22: =COUNT(B22:F22) -> 2
A23: listopad | B23: =IF(ISBLANK(stażysta!B19),"",stażysta!B19) -> 0 | C23: =IF(ISBLANK(kontraktowy!B19),"",kontraktowy!B19) -> 0 | D23: =IF(ISBLANK(początkujący!B19),"",początkujący!B19) | E23: =IF(ISBLANK(mianowany!B19),"",mianowany!B19) | F23: =IF(ISBLANK(dyplomowany!B19),"",dyplomowany!B19) | G23: =IF(H23=5,(SUM(B23:F23)),"") | H23: =COUNT(B23:F23) -> 2
A24: grudzień | B24: =IF(ISBLANK(stażysta!B20),"",stażysta!B20) -> 0 | C24: =IF(ISBLANK(kontraktowy!B20),"",kontraktowy!B20) -> 0 | D24: =IF(ISBLANK(początkujący!B20),"",początkujący!B20) | E24: =IF(ISBLANK(mianowany!B20),"",mianowany!B20) | F24: =IF(ISBLANK(dyplomowany!B20),"",dyplomowany!B20) | G24: =IF(H24=5,(SUM(B24:F24)),"") | H24: =COUNT(B24:F24) -> 2
A26: średnia (styczeń-kwiecień) | B26: =IF(COUNTIF($H$13:$H$16,"=5")=0,"",+SUMIF($H$13:$H$16,"=5",B13:B16)/COUNTIF($H$13:$H$16,"=5")) | C26: =IF(COUNTIF($H$13:$H$16,"=5")=0,"",+SUMIF($H$13:$H$16,"=5",C13:C16)/COUNTIF($H$13:$H$16,"=5")) | E26: =IF(COUNTIF($H$13:$H$16,"=5")=0,"",+SUMIF($H$13:$H$16,"=5",E13:E16)/COUNTIF($H$13:$H$16,"=5")) | F26: =IF(COUNTIF($H$13:$H$16,"=5")=0,"",+SUMIF($H$13:$H$16,"=5",F13:F16)/COUNTIF($H$13:$H$16,"=5")) | G26: =IF(COUNTIF($H$13:$H$16,"=5")=0,"",+SUMIF($H$13:$H$16,"=5",G13:G16)/COUNTIF($H$13:$H$16,"=5")) | H26: =COUNT(B26:F26) -> 0
A27: średnia (maj-sierpień) | B27: =IF(COUNTIF($H$17:$H$20,"=5")=0,"",+SUMIF($H$17:$H$20,"=5",B17:B20)/COUNTIF($H$17:$H$20,"=5")) | C27: =IF(COUNTIF($H$17:$H$20,"=5")=0,"",+SUMIF($H$17:$H$20,"=5",C17:C20)/COUNTIF($H$17:$H$20,"=5")) | E27: =IF(COUNTIF($H$17:$H$20,"=5")=0,"",+SUMIF($H$17:$H$20,"=5",E17:E20)/COUNTIF($H$17:$H$20,"=5")) | F27: =IF(COUNTIF($H$17:$H$20,"=5")=0,"",+SUMIF($H$17:$H$20,"=5",F17:F20)/COUNTIF($H$17:$H$20,"=5")) | G27: =IF(COUNTIF($H$17:$H$20,"=5")=0,"",+SUMIF($H$17:$H$20,"=5",G17:G20)/COUNTIF($H$17:$H$20,"=5")) | H27: =COUNT(B27:F27) -> 0
A28: średnia (wrzesień-grudzień) | D28: =IF(COUNTIF($H$21:$H$24,"=5")=0,"",+SUMIF($H$21:$H$24,"=5",D21:D24)/COUNTIF($H$21:$H$24,"=5")) | E28: =IF(COUNTIF($H$21:$H$24,"=5")=0,"",+SUMIF($H$21:$H$24,"=5",E21:E24)/COUNTIF($H$21:$H$24,"=5")) | F28: =IF(COUNTIF($H$21:$H$24,"=5")=0,"",+SUMIF($H$21:$H$24,"=5",F21:F24)/COUNTIF($H$21:$H$24,"=5")) | G28: =IF(COUNTIF($H$21:$H$24,"=5")=0,"",+SUMIF($H$21:$H$24,"=5",G21:G24)/COUNTIF($H$21:$H$24,"=5")) | H28: =COUNT(B28:F28) -> 0
A29: średnioroczna | B29: =IF(COUNTIF($H$13:$H$24,"=5")=0,"",+SUMIF($H$13:$H$24,"=5",B13:B24)/COUNTIF($H$13:$H$24,"=5")) | C29: =IF(COUNTIF($H$13:$H$24,"=5")=0,"",+SUMIF($H$13:$H$24,"=5",C13:C24)/COUNTIF($H$13:$H$24,"=5")) | D29: =IF(COUNTIF($H$13:$H$24,"=5")=0,"",+SUMIF($H$13:$H$24,"=5",D13:D24)/COUNTIF($H$13:$H$24,"=5")) | E29: =IF(COUNTIF($H$13:$H$24,"=5")=0,"",+SUMIF($H$13:$H$24,"=5",E13:E24)/COUNTIF($H$13:$H$24,"=5")) | F29: =IF(COUNTIF($H$13:$H$24,"=5")=0,"",+SUMIF($H$13:$H$24,"=5",F13:F24)/COUNTIF($H$13:$H$24,"=5")) | G29: =IF(COUNTIF($H$13:$H$24,"=5")=0,"",+SUMIF($H$13:$H$24,"=5",G13:G24)/COUNTIF($H$13:$H$24,"=5")) | H29: =COUNT(B29:F29) -> 0
A32: 2. Faktyczne wydatki poniesione na wynagrodzenia (wszystkich nauczycieli w danym stopniu awansu):
B34: =COUNTIF(stażysta!$B$31:$M$31,">0") -> 0 | C34: =COUNTIF(kontraktowy!$B$31:$M$31,">0") -> 0 | D34: =COUNTIF(początkujący!$B$31:$M$31,">0") -> 0 | E34: =COUNTIF(mianowany!$B$31:$M$31,">0") -> 0 | F34: =COUNTIF(dyplomowany!$B$31:$M$31,">0") -> 0
A35: Wydatki poniesione na wynagrodzenia | B35: Stopień awansu zawodowego | G35: RAZEM
B36: nauczyciel stażysta | C36: nauczyciel kontraktowy | D36: nauczyciel początkujący | E36: nauczyciel mianowany | F36: nauczyciel dyplomowany
A37: Razem poniesione wydatki na wynagrodzenia | B37: =B38+B39 -> 0 | C37: =C38+C39 -> 0 | D37: =D38+D39 -> 0 | E37: =E38+E39 -> 0 | F37: =F38+F39 -> 0 | G37: =SUM(B37:F37) -> 0
A38: Wynagrodzenie zasadnicze | B38: =stażysta!N32 -> 0 | C38: =kontraktowy!N32 -> 0 | D38: =początkujący!N32 -> 0 | E38: =mianowany!N32 -> 0 | F38: =dyplomowany!N32 -> 0 | G38: =SUM(B38:F38) -> 0
A39: Pozostałe składniki wynagrodzeń: | B39: =SUM(B40:B65) -> 0 | C39: =SUM(C40:C65) -> 0 | D39: =SUM(D40:D65) -> 0 | E39: =SUM(E40:E65) -> 0 | F39: =SUM(F40:F65) -> 0 | G39: =SUM(B39:F39) -> 0
A40: dodatek za wysługę lat | B40: =stażysta!N34 -> 0 | C40: =kontraktowy!N34 -> 0 | D40: =początkujący!N34 -> 0 | E40: =mianowany!N34 -> 0 | F40: =dyplomowany!N34 -> 0 | G40: =SUM(B40:F40) -> 0
A41: dodatek funkcyjny wynikający z pełnienia funkcji kierowniczej | B41: =stażysta!N35 -> 0 | C41: =kontraktowy!N35 -> 0 | D41: =początkujący!N35 -> 0 | E41: =mianowany!N35 -> 0 | F41: =dyplomowany!N35 -> 0 | G41: =SUM(B41:F41) -> 0
A42: dodatek funkcyjny dla wychowawcy oddziału/ dla wychowawców klasy | B42: =stażysta!N36 -> 0 | C42: =kontraktowy!N36 -> 0 | D42: =początkujący!N36 -> 0 | E42: =mianowany!N36 -> 0 | F42: =dyplomowany!N36 -> 0 | G42: =SUM(B42:F42) -> 0
A43: dodatek funkcyjny dla opiekuna stażu / mentora | B43: =stażysta!N37 -> 0 | C43: =kontraktowy!N37 -> 0 | D43: =początkujący!N37 -> 0 | E43: =mianowany!N37 -> 0 | F43: =dyplomowany!N37 -> 0 | G43: =SUM(B43:F43) -> 0
A44: dodatek funkcyjny dla doradcy metodycznego | B44: =stażysta!N38 -> 0 | C44: =kontraktowy!N38 -> 0 | D44: =początkujący!N38 -> 0 | E44: =mianowany!N38 -> 0 | F44: =dyplomowany!N38 -> 0 | G44: =SUM(B44:F44) -> 0
A45: dodatek funkcyjny dla nauczyciela konsultanta | B45: =stażysta!N39 -> 0 | C45: =kontraktowy!N39 -> 0 | D45: =początkujący!N39 -> 0 | E45: =mianowany!N39 -> 0 | F45: =dyplomowany!N39 -> 0 | G45: =SUM(B45:F45) -> 0
A46: dodatek motywacyjny | B46: =stażysta!N40 -> 0 | C46: =kontraktowy!N40 -> 0 | D46: =początkujący!N40 -> 0 | E46: =mianowany!N40 -> 0 | F46: =dyplomowany!N40 -> 0 | G46: =SUM(B46:F46) -> 0
A47: dodatek za warunki pracy | B47: =stażysta!N41 -> 0 | C47: =kontraktowy!N41 -> 0 | D47: =początkujący!N41 -> 0 | E47: =mianowany!N41 -> 0 | F47: =dyplomowany!N41 -> 0 | G47: =SUM(B47:F47) -> 0
...

Sheet stażysta
A1: FORMULARZ SPRAWOZDAWCZY DLA SZKÓŁ
A2: nauczyciele stażyści
A4: 1. Średnioroczna struktura zatrudnienia:
A5: Warunkiem koniecznym jest wypełnienie pół dotyczacych struktury zatrudnienia po kolei od stycznia.Musi być zachowana ciągłość Jeśli w danym miesiącu nie jest nikt zatrudniony należy wpisać 0
A7: miesiąc | B7: Liczba etatów
B8: nauczyciel stażysta
A9: styczeń
A10: luty
A11: marzec
A12: kwiecień
A13: maj
A14: czerwiec
A15: lipiec
A16: sierpień
A17: wrzesień | B17: 0
A18: październik | B18: 0
A19: listopad | B19: 0
A20: grudzień | B20: 0
A22: średnia (styczeń-kwiecień) | B22: =IF(COUNTA(B9:B12)<>0,AVERAGE(B9:B12),"")
A23: średnia (maj-sierpień) | B23: =IF(COUNTA(B13:B16)<>0,AVERAGE(B13:B16),"")
A24: średnia (wrzesień-grudzień)
A25: średnioroczna | B25: =IF(COUNTA(B9:B16,B17:B20)<>0,AVERAGE(B9:B16,B17:B20),"") -> 0
A27: 2. Faktyczne wydatki poniesione na wynagrodzenia dla nauczycieli stażystów:
A29: Wydatki poniesione na wynagrodzenia | B29: miesiące | N29: Razem
B30: styczeń | C30: luty | D30: marzec | E30: kwiecień | F30: maj | G30: czerwiec | H30: lipiec | I30: sierpień | J30: wrzesień | K30: październik | L30: listopad | M30: grudzień
A31: Razem poniesione wydatki na wynagrodzenia | B31: =B32+B33 -> 0 | C31: =C32+C33 -> 0 | D31: =D32+D33 -> 0 | E31: =E32+E33 -> 0 | F31: =F32+F33 -> 0 | G31: =G32+G33 -> 0 | H31: =H32+H33 -> 0 | I31: =I32+I33 -> 0 | ... M31: =M32+M33 -> 0 | N31: =SUM(B31:M31) -> 0
A32: Wynagrodzenie zasadnicze | N32: =SUM(B32:M32) -> 0
A33: Pozostałe składniki wynagrodzeń: | B33: =SUM(B34:B59) -> 0 | C33: =SUM(C34:C59) -> 0 | D33: =SUM(D34:D59) -> 0 | E33: =SUM(E34:E59) -> 0 | F33: =SUM(F34:F59) -> 0 | G33: =SUM(G34:G59) -> 0 | H33: =SUM(H34:H59) -> 0 | I33: =SUM(I34:I59) -> 0 | ... M33: =SUM(M34:M59) -> 0 | N33: =SUM(B33:M33) -> 0
A34: dodatek za wysługę lat | N34: =SUM(B34:M34) -> 0
A35: dodatek funkcyjny wynikający z pełnienia funkcji kierowniczej | N35: =SUM(B35:M35) -> 0
A36: dodatek funkcyjny dla wychowawcy oddziału/ dla wychowawców klasy | N36: =SUM(B36:M36) -> 0
A37: dodatek funkcyjny dla opiekuna stażu / mentora | N37: =SUM(B37:M37) -> 0
A38: dodatek funkcyjny dla doradcy metodycznego | N38: =SUM(B38:M38) -> 0
A39: dodatek funkcyjny dla nauczyciela konsultanta | N39: =SUM(B39:M39) -> 0
A40: dodatek motywacyjny | N40: =SUM(B40:M40) -> 0
A41: dodatek za warunki pracy | N41: =SUM(B41:M41) -> 0
A42: dodatek za pracę w warunkach uciążliwych | N42: =SUM(B42:M42) -> 0
A43: dodatkowe wynagrodzenie za pracę w godzinach nocnych | N43: =SUM(B43:M43) -> 0
A44: dodatek specjalistyczny | N44: =SUM(B44:M44) -> 0
A45: wynagrodzenie za godziny ponadwymiarowe stałe | N45: =SUM(B45:M45) -> 0
...

Sheet kontraktowy
A1: FORMULARZ SPRAWOZDAWCZY DLA SZKÓŁ
A2: nauczyciele kontraktowi
A4: 1. Średnioroczna struktura zatrudnienia:
A5: Warunkiem koniecznym jest wypełnienie pół dotyczacych struktury zatrudnienia po kolei od stycznia.Musi być zachowana ciągłość Jeśli w danym miesiącu nie jest nikt zatrudniony należy wpisać 0
A7: miesiąc | B7: Liczba etatów
B8: nauczyciel kontraktowy
A9: styczeń
A10: luty
A11: marzec
A12: kwiecień
A13: maj
A14: czerwiec
A15: lipiec
A16: sierpień
A17: wrzesień | B17: 0
A18: październik | B18: 0
A19: listopad | B19: 0
A20: grudzień | B20: 0
A22: średnia (styczeń-kwiecień) | B22: =IF(COUNTA(B9:B12)<>0,AVERAGE(B9:B12),"")
A23: średnia (maj-sierpień) | B23: =IF(COUNTA(B13:B16)<>0,AVERAGE(B13:B16),"")
A24: średnia (wrzesień-grudzień)
A25: średnioroczna | B25: =IF(COUNTA(B9:B16,B17:B20)<>0,AVERAGE(B9:B16,B17:B20),"") -> 0
A27: 2. Faktyczne wydatki poniesione na wynagrodzenia dla nauczycieli kontraktowych:
A29: Wydatki poniesione na wynagrodzenia | B29: miesiące | N29: Razem
B30: styczeń | C30: luty | D30: marzec | E30: kwiecień | F30: maj | G30: czerwiec | H30: lipiec | I30: sierpień | J30: wrzesień | K30: październik | L30: listopad | M30: grudzień
A31: Razem poniesione wydatki na wynagrodzenia | B31: =B32+B33 -> 0 | C31: =C32+C33 -> 0 | D31: =D32+D33 -> 0 | E31: =E32+E33 -> 0 | F31: =F32+F33 -> 0 | G31: =G32+G33 -> 0 | H31: =H32+H33 -> 0 | I31: =I32+I33 -> 0 | ... M31: =M32+M33 -> 0 | N31: =SUM(B31:M31) -> 0
A32: Wynagrodzenie zasadnicze | N32: =SUM(B32:M32) -> 0
A33: Pozostałe składniki wynagrodzeń: | B33: =SUM(B34:B59) -> 0 | C33: =SUM(C34:C59) -> 0 | D33: =SUM(D34:D59) -> 0 | E33: =SUM(E34:E59) -> 0 | F33: =SUM(F34:F59) -> 0 | G33: =SUM(G34:G59) -> 0 | H33: =SUM(H34:H59) -> 0 | I33: =SUM(I34:I59) -> 0 | ... M33: =SUM(M34:M59) -> 0 | N33: =SUM(B33:M33) -> 0
A34: dodatek za wysługę lat | N34: =SUM(B34:M34) -> 0
A35: dodatek funkcyjny wynikający z pełnienia funkcji kierowniczej | N35: =SUM(B35:M35) -> 0
A36: dodatek funkcyjny dla wychowawcy oddziału/ dla wychowawców klasy | N36: =SUM(B36:M36) -> 0
A37: dodatek funkcyjny dla opiekuna stażu / mentora | N37: =SUM(B37:M37) -> 0
A38: dodatek funkcyjny dla doradcy metodycznego | N38: =SUM(B38:M38) -> 0
A39: dodatek funkcyjny dla nauczyciela konsultanta | N39: =SUM(B39:M39) -> 0
A40: dodatek motywacyjny | N40: =SUM(B40:M40) -> 0
A41: dodatek za warunki pracy | N41: =SUM(B41:M41) -> 0
A42: dodatek za pracę w warunkach uciążliwych | N42: =SUM(B42:M42) -> 0
A43: dodatkowe wynagrodzenie za pracę w godzinach nocnych | N43: =SUM(B43:M43) -> 0
A44: dodatek specjalistyczny | N44: =SUM(B44:M44) -> 0
A45: wynagrodzenie za godziny ponadwymiarowe stałe | N45: =SUM(B45:M45) -> 0
...

Sheet początkujący
A1: FORMULARZ SPRAWOZDAWCZY DLA SZKÓŁ
A2: nauczyciele początkujący
A4: 1. Średnioroczna struktura zatrudnienia:
A5: Warunkiem koniecznym jest wypełnienie pół dotyczacych struktury zatrudnienia po kolei od stycznia.Musi być zachowana ciągłość Jeśli w danym miesiącu nie jest nikt zatrudniony należy wpisać 0
A7: miesiąc | B7: Liczba etatów
B8: nauczyciel początkujący
A9: styczeń | B9: 0
A10: luty | B10: 0
A11: marzec | B11: 0
A12: kwiecień | B12: 0
A13: maj | B13: 0
A14: czerwiec | B14: 0
A15: lipiec | B15: 0
A16: sierpień | B16: 0
A17: wrzesień
A18: październik
A19: listopad
A20: grudzień
A22: średnia (styczeń-kwiecień)
A23: średnia (maj-sierpień)
A24: średnia (wrzesień-grudzień) | B24: =IF(COUNTA(B17:B20)<>0,AVERAGE(B17:B20),"")
A25: średnioroczna | B25: =IF(COUNTA(B9:B16,B17:B20)<>0,AVERAGE(B9:B16,B17:B20),"") -> 0
A27: 2. Faktyczne wydatki poniesione na wynagrodzenia dla nauczycieli początkujących:
A29: Wydatki poniesione na wynagrodzenia | B29: miesiące | N29: Razem
B30: styczeń | C30: luty | D30: marzec | E30: kwiecień | F30: maj | G30: czerwiec | H30: lipiec | I30: sierpień | J30: wrzesień | K30: październik | L30: listopad | M30: grudzień
A31: Razem poniesione wydatki na wynagrodzenia | B31: =B32+B33 -> 0 | C31: =C32+C33 -> 0 | D31: =D32+D33 -> 0 | E31: =E32+E33 -> 0 | F31: =F32+F33 -> 0 | G31: =G32+G33 -> 0 | H31: =H32+H33 -> 0 | I31: =I32+I33 -> 0 | ... M31: =M32+M33 -> 0 | N31: =SUM(B31:M31) -> 0
A32: Wynagrodzenie zasadnicze | N32: =SUM(B32:M32) -> 0
A33: Pozostałe składniki wynagrodzeń: | B33: =SUM(B34:B59) -> 0 | C33: =SUM(C34:C59) -> 0 | D33: =SUM(D34:D59) -> 0 | E33: =SUM(E34:E59) -> 0 | F33: =SUM(F34:F59) -> 0 | G33: =SUM(G34:G59) -> 0 | H33: =SUM(H34:H59) -> 0 | I33: =SUM(I34:I59) -> 0 | ... M33: =SUM(M34:M59) -> 0 | N33: =SUM(B33:M33) -> 0
A34: dodatek za wysługę lat | N34: =SUM(B34:M34) -> 0
A35: dodatek funkcyjny wynikający z pełnienia funkcji kierowniczej | N35: =SUM(B35:M35) -> 0
A36: dodatek funkcyjny dla wychowawcy oddziału/ dla wychowawców klasy | N36: =SUM(B36:M36) -> 0
A37: dodatek funkcyjny dla opiekuna stażu / mentora | N37: =SUM(B37:M37) -> 0
A38: dodatek funkcyjny dla doradcy metodycznego | N38: =SUM(B38:M38) -> 0
A39: dodatek funkcyjny dla nauczyciela konsultanta | N39: =SUM(B39:M39) -> 0
A40: dodatek motywacyjny | N40: =SUM(B40:M40) -> 0
A41: dodatek za warunki pracy | N41: =SUM(B41:M41) -> 0
A42: dodatek za pracę w warunkach uciążliwych | N42: =SUM(B42:M42) -> 0
A43: dodatkowe wynagrodzenie za pracę w godzinach nocnych | N43: =SUM(B43:M43) -> 0
A44: dodatek specjalistyczny | N44: =SUM(B44:M44) -> 0
A45: wynagrodzenie za godziny ponadwymiarowe stałe | N45: =SUM(B45:M45) -> 0
...

Sheet mianowany
A1: FORMULARZ SPRAWOZDAWCZY DLA SZKÓŁ
A2: nauczyciele mianowani
A4: 1. Średnioroczna struktura zatrudnienia:
A5: Warunkiem koniecznym jest wypełnienie pół dotyczacych struktury zatrudnienia po kolei od stycznia.Musi być zachowana ciągłość Jeśli w danym miesiącu nie jest nikt zatrudniony należy wpisać 0
A7: miesiąc | B7: Liczba etatów
B8: nauczyciel mianowany
A9: styczeń
A10: luty
A11: marzec
A12: kwiecień
A13: maj
A14: czerwiec
A15: lipiec
A16: sierpień
A17: wrzesień
A18: październik
A19: listopad
A20: grudzień | M20: 1
A22: średnia (styczeń-kwiecień) | B22: =IF(COUNTA(B9:B12)<>0,AVERAGE(B9:B12),"")
A23: średnia (maj-sierpień) | B23: =IF(COUNTA(B13:B16)<>0,AVERAGE(B13:B16),"")
A24: średnia (wrzesień-grudzień) | B24: =IF(COUNTA(B17:B20)<>0,AVERAGE(B17:B20),"")
A25: średnioroczna | B25: =IF(COUNTA(B9:B16,B17:B20)<>0,AVERAGE(B9:B16,B17:B20),"")
A27: 2. Faktyczne wydatki poniesione na wynagrodzenia dla nauczycieli mianowanych:
A29: Wydatki poniesione na wynagrodzenia | B29: miesiące | N29: Razem
B30: styczeń | C30: luty | D30: marzec | E30: kwiecień | F30: maj | G30: czerwiec | H30: lipiec | I30: sierpień | J30: wrzesień | K30: październik | L30: listopad | M30: grudzień
A31: Razem poniesione wydatki na wynagrodzenia | B31: =B32+B33 -> 0 | C31: =C32+C33 -> 0 | D31: =D32+D33 -> 0 | E31: =E32+E33 -> 0 | F31: =F32+F33 -> 0 | G31: =G32+G33 -> 0 | H31: =H32+H33 -> 0 | I31: =I32+I33 -> 0 | ... M31: =M32+M33 -> 0 | N31: =SUM(B31:M31) -> 0
A32: Wynagrodzenie zasadnicze | N32: =SUM(B32:M32) -> 0
A33: Pozostałe składniki wynagrodzeń: | B33: =SUM(B34:B59) -> 0 | C33: =SUM(C34:C59) -> 0 | D33: =SUM(D34:D59) -> 0 | E33: =SUM(E34:E59) -> 0 | F33: =SUM(F34:F59) -> 0 | G33: =SUM(G34:G59) -> 0 | H33: =SUM(H34:H59) -> 0 | I33: =SUM(I34:I59) -> 0 | ... M33: =SUM(M34:M59) -> 0 | N33: =SUM(B33:M33) -> 0
A34: dodatek za wysługę lat | N34: =SUM(B34:M34) -> 0
A35: dodatek funkcyjny wynikający z pełnienia funkcji kierowniczej | N35: =SUM(B35:M35) -> 0
A36: dodatek funkcyjny dla wychowawcy oddziału/ dla wychowawców klasy | N36: =SUM(B36:M36) -> 0
A37: dodatek funkcyjny dla opiekuna stażu / mentora | N37: =SUM(B37:M37) -> 0
A38: dodatek funkcyjny dla doradcy metodycznego | N38: =SUM(B38:M38) -> 0
A39: dodatek funkcyjny dla nauczyciela konsultanta | N39: =SUM(B39:M39) -> 0
A40: dodatek motywacyjny | N40: =SUM(B40:M40) -> 0
A41: dodatek za warunki pracy | N41: =SUM(B41:M41) -> 0
A42: dodatek za pracę w warunkach uciążliwych | N42: =SUM(B42:M42) -> 0
A43: dodatkowe wynagrodzenie za pracę w godzinach nocnych | N43: =SUM(B43:M43) -> 0
A44: dodatek specjalistyczny | N44: =SUM(B44:M44) -> 0
A45: wynagrodzenie za godziny ponadwymiarowe stałe | N45: =SUM(B45:M45) -> 0
...

Sheet dyplomowany
A1: FORMULARZ SPRAWOZDAWCZY DLA SZKOŁY
A2: nauczyciele dyplomowani
A4: 1. Średnioroczna struktura zatrudnienia:
A5: Warunkiem koniecznym jest wypełnienie pół dotyczacych struktury zatrudnienia po kolei od stycznia.Musi być zachowana ciągłość Jeśli w danym miesiącu nie jest nikt zatrudniony należy wpisać 0
A7: miesiąc | B7: Liczba etatów
B8: nauczyciel dyplomowany
A9: styczeń
A10: luty
A11: marzec
A12: kwiecień
A13: maj
A14: czerwiec
A15: lipiec
A16: sierpień
A17: wrzesień
A18: październik
A19: listopad
A20: grudzień
A22: średnia (styczeń-kwiecień) | B22: =IF(COUNTA(B9:B12)<>0,AVERAGE(B9:B12),"")
A23: średnia (maj-sierpień) | B23: =IF(COUNTA(B13:B16)<>0,AVERAGE(B13:B16),"")
A24: średnia (wrzesień-grudzień) | B24: =IF(COUNTA(B17:B20)<>0,AVERAGE(B17:B20),"")
A25: średnioroczna | B25: =IF(COUNTA(B9:B16,B17:B20)<>0,AVERAGE(B9:B16,B17:B20),"")
A27: 2. Faktyczne wydatki poniesione na wynagrodzenia dla nauczycieli dyplomowanych:
A29: Wydatki poniesione na wynagrodzenia | B29: miesiące | N29: Razem
B30: styczeń | C30: luty | D30: marzec | E30: kwiecień | F30: maj | G30: czerwiec | H30: lipiec | I30: sierpień | J30: wrzesień | K30: październik | L30: listopad | M30: grudzień
A31: Razem poniesione wydatki na wynagrodzenia | B31: =B32+B33 -> 0 | C31: =C32+C33 -> 0 | D31: =D32+D33 -> 0 | E31: =E32+E33 -> 0 | F31: =F32+F33 -> 0 | G31: =G32+G33 -> 0 | H31: =H32+H33 -> 0 | I31: =I32+I33 -> 0 | ... M31: =M32+M33 -> 0 | N31: =SUM(B31:M31) -> 0
A32: Wynagrodzenie zasadnicze | N32: =SUM(B32:M32) -> 0
A33: Pozostałe składniki wynagrodzeń: | B33: =SUM(B34:B59) -> 0 | C33: =SUM(C34:C59) -> 0 | D33: =SUM(D34:D59) -> 0 | E33: =SUM(E34:E59) -> 0 | F33: =SUM(F34:F59) -> 0 | G33: =SUM(G34:G59) -> 0 | H33: =SUM(H34:H59) -> 0 | I33: =SUM(I34:I59) -> 0 | ... M33: =SUM(M34:M59) -> 0 | N33: =SUM(B33:M33) -> 0
A34: dodatek za wysługę lat | N34: =SUM(B34:M34) -> 0
A35: dodatek funkcyjny wynikający z pełnienia funkcji kierowniczej | N35: =SUM(B35:M35) -> 0
A36: dodatek funkcyjny dla wychowawcy oddziału/ dla wychowawców klasy | N36: =SUM(B36:M36) -> 0
A37: dodatek funkcyjny dla opiekuna stażu / mentora | N37: =SUM(B37:M37) -> 0
A38: dodatek funkcyjny dla doradcy metodycznego | N38: =SUM(B38:M38) -> 0
A39: dodatek funkcyjny dla nauczyciela konsultanta | N39: =SUM(B39:M39) -> 0
A40: dodatek motywacyjny | N40: =SUM(B40:M40) -> 0
A41: dodatek za warunki pracy | N41: =SUM(B41:M41) -> 0
A42: dodatek za pracę w warunkach uciążliwych | N42: =SUM(B42:M42) -> 0
A43: dodatkowe wynagrodzenie za pracę w godzinach nocnych | N43: =SUM(B43:M43) -> 0
A44: dodatek specjalistyczny | N44: =SUM(B44:M44) -> 0
A45: wynagrodzenie za godziny ponadwymiarowe stałe | N45: =SUM(B45:M45) -> 0
...
